BEGIN:VCALENDAR
VERSION:2.0
PRODID:Lakeport Fire District Calendar Creator
METHOD:PUBLISH
BEGIN:VEVENT
DTSTAMP:20251117T145949
DTSTART:20260609T173000
DTEND:20260609T190000
SUMMARY:Regular Board Meeting
DESCRIPTION:
X-ALT-DESC;FMTTYPE=text/html:
LOCATION:Lakeport Fire Protection District\, 445 N. Main Street Lakeport\, California 95453
CLASS:PUBLIC
END:VEVENT
END:VCALENDAR
